BEGIN:VCALENDAR
VERSION:2.0
CALSCALE:GREGORIAN
PRODID:-//MyApp//Calendar 1.0//EN
BEGIN:VEVENT
METHOD:PUBLISH
UID:46378@regionalniportaly.cz
DTSTAMP:20260422T194611Z
DTSTART;VALUE=DATE:20241101
DTEND;VALUE=DATE:20241102
SUMMARY:Moje kouzelná rodinka
DESCRIPTION:Betty Flood je obyčejná holka\, která žije se svou kouzelnickou rodinou ve světě lidí. Jako jediná z nich však nemá žádnou magickou moc. Netušila ale\, že její rodina má své důvody\, proč Betty nezasvětili do světa kouzel. Za jejich zády se tak do tohoto světa vydá\, kvůli čemuž přivede svou rodinu do nebezpečí. Dokáže objevit své magické schopnosti\, aby zachránila rodinu před čarodějem králem Murkhartem? Čeká na vás příběh plný kouzel\, hudby a úžasných dobrodružství.
LOCATION:Moravské Budějovice
END:VEVENT
END:VCALENDAR