BEGIN:VCALENDAR
VERSION:2.0
CALSCALE:GREGORIAN
PRODID:-//MyApp//Calendar 1.0//EN
BEGIN:VEVENT
METHOD:PUBLISH
UID:46212@regionalniportaly.cz
DTSTAMP:20260422T194014Z
DTSTART;VALUE=DATE:20241107
DTEND;VALUE=DATE:20241108
SUMMARY:Výjimečný stav
DESCRIPTION:Musíš za svou pravdou stát\, hlásá ústřední melodie nové české komedie Výjimečný stav\, kterou po sedmileté pauze natočil režisér Jan Hřebejk jako svůj další celovečerní film. Podle scénáře novináře a jednoho z autorů Zeleného Raoula Milana Tesaře tak vznikl snímek o zahraničním reportérovi\, který kvůli své žárlivosti tajně opustí stanoviště na Blízkém východě\, aby následně z pražského bytu „vysílal“ nejaktuálnější zpravodajství z místa probíhající revoluce. V hlavních rolích snímku se objeví Ondřej Vetchý\, Tatiana Dyková a Jordan Haj.
LOCATION:Moravské Budějovice
END:VEVENT
END:VCALENDAR