BEGIN:VCALENDAR
VERSION:2.0
CALSCALE:GREGORIAN
PRODID:-//MyApp//Calendar 1.0//EN
BEGIN:VEVENT
METHOD:PUBLISH
UID:45981@regionalniportaly.cz
DTSTAMP:20260422T205304Z
DTSTART;VALUE=DATE:20241006
DTEND;VALUE=DATE:20241007
SUMMARY:Módní přehlídka
DESCRIPTION:Předprodej vstupenek v síti smsticket.cz a turistickém informačním centru Moravské Budějovice.Vstupné na místě 190&nbsp\;Kč.
LOCATION:Moravské Budějovice
END:VEVENT
END:VCALENDAR