BEGIN:VCALENDAR
VERSION:2.0
CALSCALE:GREGORIAN
PRODID:-//MyApp//Calendar 1.0//EN
BEGIN:VEVENT
METHOD:PUBLISH
UID:45793@regionalniportaly.cz
DTSTAMP:20260422T223404Z
DTSTART;VALUE=DATE:20240926
DTEND;VALUE=DATE:20240927
SUMMARY:Klenoty české duchovní hudby
DESCRIPTION:Program Klenoty české hudby vznikl v roce 2009 a za uplynulých 15 let se stal nejúspěšnějším titulem souboru MUSICA DOLCE VITA. Na jaře roku 2010 trio vydalo i stejnojmenné CD\, které se na koncertech těší velké přízni a uplatňuje se jako trvalá vzpomínka na tento program.Vzhledem k tomu\, že rok 2024 je rokem české hudby věříme\, že je tím pravým pořadem\, kterým můžeme vzdát hold umění a památce našich největších skladatelů včele s jubilantem Bedřichem Smetanou.Předprodej vstupenek v síti smsticket.cz a turistickém informačním centru Moravské Budějovice.Vstupné na místě 290&nbsp\;Kč.
LOCATION:Moravské Budějovice
END:VEVENT
END:VCALENDAR