BEGIN:VCALENDAR
VERSION:2.0
CALSCALE:GREGORIAN
PRODID:-//MyApp//Calendar 1.0//EN
BEGIN:VEVENT
METHOD:PUBLISH
UID:45596@regionalniportaly.cz
DTSTAMP:20260422T210228Z
DTSTART;VALUE=DATE:20240921
DTEND;VALUE=DATE:20240922
SUMMARY:Dívčí válka
DESCRIPTION:Třetí divadelní představení XX.&nbsp\;Horákova Horáckého festivalu v podání ochotnického souboru Zámeckého divadla Jaroměřice nad Rokytnou.Předprodej vstupenek v síti smsticket.cz a turistickém informačním centru Moravské Budějovice.&nbsp\;
LOCATION:Moravské Budějovice
END:VEVENT
END:VCALENDAR