BEGIN:VCALENDAR
VERSION:2.0
CALSCALE:GREGORIAN
PRODID:-//MyApp//Calendar 1.0//EN
BEGIN:VEVENT
METHOD:PUBLISH
UID:45595@regionalniportaly.cz
DTSTAMP:20260422T210254Z
DTSTART;VALUE=DATE:20240922
DTEND;VALUE=DATE:20240923
SUMMARY:Bezkontaktní ženy
DESCRIPTION:Čtvrté&nbsp\;představení XX.&nbsp\;Horákova Horáckého festivalu.Divadelní hra Marie Janíčkové v podání Divadelního spolku Kantoři a spol. z Hrotovic.Předprodej vstupenek v síti smsticket.cz a turistickém informačním centru Moravské Budějovice.&nbsp\;
LOCATION:Moravské Budějovice
END:VEVENT
END:VCALENDAR