BEGIN:VCALENDAR
VERSION:2.0
CALSCALE:GREGORIAN
PRODID:-//MyApp//Calendar 1.0//EN
BEGIN:VEVENT
METHOD:PUBLISH
UID:45594@regionalniportaly.cz
DTSTAMP:20260422T210412Z
DTSTART;VALUE=DATE:20240920
DTEND;VALUE=DATE:20240921
SUMMARY:Jak si Krakonoš s Trautenberkem vyměnili hospodářství
DESCRIPTION:Druhé představení XX.&nbsp\;Horákova Horáckého festivalu.Veselá pohádka pro děti od 1 do 100 let v podání DS Špatně namíchaný bublifuk z Velkého Meziříčí.Předprodej vstupenek v síti smsticket.cz a turistickém informačním centru Moravské Budějovice.&nbsp\;
LOCATION:Moravské Budějovice
END:VEVENT
END:VCALENDAR