BEGIN:VCALENDAR
VERSION:2.0
CALSCALE:GREGORIAN
PRODID:-//MyApp//Calendar 1.0//EN
BEGIN:VEVENT
METHOD:PUBLISH
UID:45593@regionalniportaly.cz
DTSTAMP:20260422T235155Z
DTSTART;VALUE=DATE:20240919
DTEND;VALUE=DATE:20240920
SUMMARY:Otylka
DESCRIPTION:Slavnostní zahájení Horákova Horáckého festivalu komedií Otylka&nbsp\;Jaromíra Břehového v podání Divadelního spolku při N. K. N. JemnicePředprodej vstupenek v síti smsticket.cz a turistickém informačním centru Moravské Budějovice.&nbsp\;
LOCATION:Moravské Budějovice
END:VEVENT
END:VCALENDAR