BEGIN:VCALENDAR
VERSION:2.0
CALSCALE:GREGORIAN
PRODID:-//MyApp//Calendar 1.0//EN
BEGIN:VEVENT
METHOD:PUBLISH
UID:45589@regionalniportaly.cz
DTSTAMP:20260422T223213Z
DTSTART;VALUE=DATE:20240919
DTEND;VALUE=DATE:20240922
SUMMARY:XX. Horákův Horácký Festival
DESCRIPTION:Dvacátý ročník Horákova Horáckého festivalu je tady!Co nás letos čeká?19. 9. 2024 - Otylka\, Divadelní spolek při N. K. N. Jemnice21. 9. 2024 - Dívčí válka\, ochotnický soubor Zámeckého divadla Jaroměřice nad Rokytnou22. 9. 2024 - Bezkontaktní ženy\, Divadelní spolek Kantoři a spol z HrotovicPředprodej vstupenek v síti smsticket.cz a turistickém informačním centru Moravské Budějovice.&nbsp\;
LOCATION:Moravské Budějovice
END:VEVENT
END:VCALENDAR