BEGIN:VCALENDAR
VERSION:2.0
CALSCALE:GREGORIAN
PRODID:-//MyApp//Calendar 1.0//EN
BEGIN:VEVENT
METHOD:PUBLISH
UID:45574@regionalniportaly.cz
DTSTAMP:20260422T210325Z
DTSTART;VALUE=DATE:20240919
DTEND;VALUE=DATE:20240920
SUMMARY:Kino Sokol - Vlny
DESCRIPTION:Přijďte zahájit podzimní „kinosezónu“ filmem Vlny\, a to ve čtvrtek 19. 9. od 20.00.\nDobový film režiséra Jiřího Mádla ukáže napínavé a doposud utajené příběhy novinářů Československého rozhlasu. Na konci 60. let\, kdy zněl z rádiových vln rokenrol a studentské revolty měnily svět\, nastoupí starší z bratrů do prestižní redakce rozhlasu. Záhy se ocitne v nebezpečném souboji redaktorů a tajných služeb.\nJiří Mádl ve svém nejambicióznějším filmu odtajňuje skutečné dobové události v uhrančivém špionážním thrilleru o důležitosti rodiny\, o boji za svobodu a o jedné nahrávce\, která může změnit běh dějin. Hlavní roli režisér svěřil Vojtěchu Vodochodskému\, dále se ve snímku představí Stanislav Majer\, Martin Hofmann\, Vojtěch Kotek\, Táňa Pauhofová nebo Marika Šoposká.\nVstupné 140\,- Kč. Vstupenky je možné zakoupit on-line\, v infocentru MKS Beseda nebo na místě v den promítání od 19:00. Těšíme se na vás.
LOCATION:Moravské Budějovice
END:VEVENT
END:VCALENDAR