BEGIN:VCALENDAR
VERSION:2.0
CALSCALE:GREGORIAN
PRODID:-//MyApp//Calendar 1.0//EN
BEGIN:VEVENT
METHOD:PUBLISH
UID:45274@regionalniportaly.cz
DTSTAMP:20260422T192822Z
DTSTART;VALUE=DATE:20250808
DTEND;VALUE=DATE:20250809
SUMMARY:Olympic - Kulturní léto 2025
DESCRIPTION:Legendární skupina&nbsp\;Olympic přijíždí do Moravských Budějovic.Velkolepá show plná dechberoucích efektů\, projekcí a hlavně toho nejlepšího z šedesátileté historie kapely Olympic.Předprodej vstupenek v síti smsticket.cz a v turistickém informačním centru Moravské Budějovice.Vstupné na místě 1090&nbsp\;Kč.
LOCATION:Moravské Budějovice
END:VEVENT
END:VCALENDAR