BEGIN:VCALENDAR
VERSION:2.0
CALSCALE:GREGORIAN
PRODID:-//MyApp//Calendar 1.0//EN
BEGIN:VEVENT
METHOD:PUBLISH
UID:45110@regionalniportaly.cz
DTSTAMP:20260422T210334Z
DTSTART;VALUE=DATE:20241023
DTEND;VALUE=DATE:20241024
SUMMARY:MIROSLAV DONUTIL - Na kus řeči
DESCRIPTION:MIROSLAV DONUTIL míří do Moravských Budějovic s novým programem!Pro všechny\, kteří milují dobrý český humor\, jsme připravili opravdovou lahůdku! V&nbsp\;říjnu zavítá do Moravských Budějovic populární český bavič a herec MIROSLAV DONUTIL. Přijede představit jednu ze svých one man show\, které mají vždy velký úspěch. Tentokrát to bude nejoblíbenější pořad Na kus řeči. Miroslav Donutil je jeden z nejznámějších a nejoblíbenějších českých herců\, komiků a vypravěčů. Za jeho talent jistě mohou i rodinné geny. Jeho rodiče byli ochotníky a dědeček byl vynikajícím a nadšeným vypravěčem. V divadle hrál již za studií\, konkrétně v divadle Husa na provázku. V roce 1990 se stal členem činohry souboru pražského Národního divadla.Talk show Na kus řeči… je vyprávění zážitků a příběhů z jeho bohatého života a života jeho přátel. Program se skládá z nových humorných příběhů\, tak se máte na co těšit.Předprodej vstupenek v síti smsticket.cz a turistickém informačním centru Moravské Budějovice.
LOCATION:Moravské Budějovice
END:VEVENT
END:VCALENDAR