BEGIN:VCALENDAR
VERSION:2.0
CALSCALE:GREGORIAN
PRODID:-//MyApp//Calendar 1.0//EN
BEGIN:VEVENT
METHOD:PUBLISH
UID:44812@regionalniportaly.cz
DTSTAMP:20260422T223147Z
DTSTART;VALUE=DATE:20240830
DTEND;VALUE=DATE:20240831
SUMMARY:Loučení s prázdninami
DESCRIPTION:Zveme Vás na další pokračování tradičního konco-prázdninového večírku.&nbsp\;Těšíte se? My na vás moc!Jak je zvykem\, sejdeme se poslední srpnový pátek v areálu letního kina ve znamení muziky\, kultury\, kámošů a super atmosféry.Na baru čepované pivo a nálož míchaných drinků!Prodej vstupenek&nbsp\;v síti smsticket.cz a v turistickém informačním centru Moravské Budějovice za cenu:od 24. 7. 2024 za 200 Kč\,od 16. 8. 2024 za 250 Kč\,od 30. 8. 2024 a na místě za 300 KčAreál otevřen od 18:00.
LOCATION:Moravské Budějovice
END:VEVENT
END:VCALENDAR