BEGIN:VCALENDAR
VERSION:2.0
CALSCALE:GREGORIAN
PRODID:-//MyApp//Calendar 1.0//EN
BEGIN:VEVENT
METHOD:PUBLISH
UID:44777@regionalniportaly.cz
DTSTAMP:20260422T223352Z
DTSTART;VALUE=DATE:20240803
DTEND;VALUE=DATE:20240809
SUMMARY:26. Mezinárodní hudební festival Petra Dvorského
DESCRIPTION:Vstupenky na festival PETRA DVORSKÉHO lze zakoupit nejen on-line\, ale také klasickou formou v předprodeji:\nTURISTICKÉ A INFORMAČNÍ CENTRUM Komenského 996675 51 Jaroměřice nad Rokytnoutel.: 775 547 522www.jaromericenr.cz/turisticke-informacni-centrum/ds-16197\n 
LOCATION:Jaroměřice nad Rokytnou
END:VEVENT
END:VCALENDAR