BEGIN:VCALENDAR
VERSION:2.0
CALSCALE:GREGORIAN
PRODID:-//MyApp//Calendar 1.0//EN
BEGIN:VEVENT
METHOD:PUBLISH
UID:44646@regionalniportaly.cz
DTSTAMP:20260422T223008Z
DTSTART;VALUE=DATE:20240906
DTEND;VALUE=DATE:20240907
SUMMARY:Jiří Pavlica & HRADIŠŤAN
DESCRIPTION:Srdečně vás zveme na&nbsp\;koncert&nbsp\;seskupení&nbsp\;Jiří Pavlica&nbsp\;&amp\;NHRADIŠŤAN&nbsp\;&nbsp\;v jedinečném prostoru barokního kostele svaté Markéty v Jaroměřicích nad Rokytnou.Nenechte si ujít tento jedinečný&nbsp\;zážitek&nbsp\; v tak výjimečném prostoru\,&nbsp\;jakým je&nbsp\;barokní perla Vysočiny!&nbsp\;HRADIŠŤAN&nbsp\;&amp\; Jiří Pavlica&nbsp\;je ojedinělé seskupení s vysokou uměleckou i interpretační úrovní\, nezvykle širokým žánrovým záběrem a netradičním repertoárem\, který v počátcích vycházel zejména z&nbsp\;lidové tradice.
LOCATION:Jaroměřice nad Rokytnou
END:VEVENT
END:VCALENDAR