BEGIN:VCALENDAR
VERSION:2.0
CALSCALE:GREGORIAN
PRODID:-//MyApp//Calendar 1.0//EN
BEGIN:VEVENT
METHOD:PUBLISH
UID:43727@regionalniportaly.cz
DTSTAMP:20260422T223422Z
DTSTART;VALUE=DATE:20240726
DTEND;VALUE=DATE:20240727
SUMMARY:Taneční zábava s kapelou BAGR
DESCRIPTION:Zveme tě&nbsp\;taneční zábavu pod širým nebem se skupinoiu BAGR.★ Na baru čepované&nbsp\;pivo a&nbsp\;nálož míchaných drinků.★ Po celou noc se těš na skvělou akci!★ Od začátku do konce největší hity od BAGRU!★ Zábava a perfektní atmosféraTak neseď doma\, ale přijď se bavit!
LOCATION:Moravské Budějovice
END:VEVENT
END:VCALENDAR