BEGIN:VCALENDAR
VERSION:2.0
CALSCALE:GREGORIAN
PRODID:-//MyApp//Calendar 1.0//EN
BEGIN:VEVENT
METHOD:PUBLISH
UID:43693@regionalniportaly.cz
DTSTAMP:20260422T223017Z
DTSTART;VALUE=DATE:20240803
DTEND;VALUE=DATE:20240804
SUMMARY:Večer s cimbálovou muzikou a ochutnávkou vín
DESCRIPTION:Vinařský spolek Moravské Budějovice a MKS Beseda Vás srdečně zvou na sedmý&nbsp\;ročník letní ochutnávky vín z Vinařství Schwarz z Pavlic.Od 19 hodin&nbsp\;zahraje k poslechu\, zpěvu a tanci Neoveská cimbálová muzika.
LOCATION:Moravské Budějovice
END:VEVENT
END:VCALENDAR