BEGIN:VCALENDAR
VERSION:2.0
CALSCALE:GREGORIAN
PRODID:-//MyApp//Calendar 1.0//EN
BEGIN:VEVENT
METHOD:PUBLISH
UID:43639@regionalniportaly.cz
DTSTAMP:20260422T235231Z
DTSTART;VALUE=DATE:20240825
DTEND;VALUE=DATE:20240826
SUMMARY:Letní kino: Kočka a pes
DESCRIPTION:Rozmazlená kočičí celebrita a psí podvraťák z&nbsp\;ulice vytvoří nejvíc nepravděpodobnou dvojici\, která se spolu ocitne v&nbsp\;divočině bez svých páníčků a musí najít cestu domů. Příroda je ale strašně nepohodlná\, jsou v&nbsp\;ní otravná zvířata\, co je chtějí sežrat\, a navíc mají v&nbsp\;patách policajta\, který je chce chytit. Bláznivá francouzská komedie pro celou rodinu\, kde budou chlupy jenom lítat.&nbsp\;Předprodej vstupenek v síti smsticket.cz a turistickém informačním centru Moravské Budějovice.
LOCATION:Moravské Budějovice
END:VEVENT
END:VCALENDAR