BEGIN:VCALENDAR
VERSION:2.0
CALSCALE:GREGORIAN
PRODID:-//MyApp//Calendar 1.0//EN
BEGIN:VEVENT
METHOD:PUBLISH
UID:43638@regionalniportaly.cz
DTSTAMP:20260422T223243Z
DTSTART;VALUE=DATE:20240808
DTEND;VALUE=DATE:20240809
SUMMARY:Letní kino: Aristokratka ve varu
DESCRIPTION:Hrabě Frank Kostka (Hynek Čermák)\, jeho žena Vivien (Tatiana Dyková) a jejich dcera Marie (Yvona Stolařová) žijí na svém rodovém zámku Kostka. Udržovat zámek v chodu jim pomáhá hospodyně paní Tichá (Eliška Balzerová)\, údržbář Krása (Pavel Liška) a kastelán Josef (Martin Pechlát). Původní zájem návštěvníků zámku o kletbu komtesy Marie už netáhne jako dřív\, což Marii vůbec nevadí – alespoň má dostatek času na svého Maxe (Zdeněk Piškula)\, šlechtice z vedlejšího zámku Hvězda. Frank je ovšem v koncích\, není dost peněz ani na výplaty\, ani na potřebné opravy. A právě v tu chvíli se objeví dcera právníka Bendy Deniska&nbsp\;(Simona Lewandowska)\, která rozvíří poklidné vody rodového sídla…Předprodej vstupenek v síti smsticket.cz a turistickém informačním centru Moravské Budějovice.
LOCATION:Moravské Budějovice
END:VEVENT
END:VCALENDAR