BEGIN:VCALENDAR
VERSION:2.0
CALSCALE:GREGORIAN
PRODID:-//MyApp//Calendar 1.0//EN
BEGIN:VEVENT
METHOD:PUBLISH
UID:43637@regionalniportaly.cz
DTSTAMP:20260422T223126Z
DTSTART;VALUE=DATE:20240718
DTEND;VALUE=DATE:20240719
SUMMARY:Letní kino: Zahradníkův rok
DESCRIPTION:Na úpatí malebného kopečku žije zahradník (Oldřich Kaiser) se svojí ženou\, kteří se starají o své malé zahradnictví. Jejich idylický život je narušen\, když se na nedalekém zámku chystá usadit nový majitel\, který chce přetvořit krajinu podle svých představ. Když zahradnictví brání jeho plánům\, spustí se sled bizarních událostí. Nový majitel nejprve vytvoří plot s žiletkovým drátem a zavře příjezdovou cestu. Postupně přidává ve svých činech na intenzitě\, aby dosáhl svých cílů. Zahradník se však nevzdává a snaží se bránit svůj domov. Když se policie i starostka postupně utopí ve své vlastní byrokracií\, zahradník se rozhodně vzít osud do vlastních rukou.&nbsp\;Nový film&nbsp\;Jiřího Havelky\, balancující na hraně bizáru\, absurdna a tragikomedie je inspirován skutečným příběhem a stejnojmenným literárním dílem od&nbsp\;Karla Čapka.Hrají: Oldřich Kaiser\, Dagmar Vokatá\, Michal Isteník\, Štěpán Kozub\, Alena Mihulová\, Luboš Veselý\, Petr Lněnička\, Tomáš Jeřábek\, Jiří Vyorálek\, Luboš Veselý\, Tereza Dočkalová a dalšíPředprodej vstupenek v síti smsticket.cz a turistickém informačním centru Moravské Budějovice.
LOCATION:Moravské Budějovice
END:VEVENT
END:VCALENDAR