BEGIN:VCALENDAR
VERSION:2.0
CALSCALE:GREGORIAN
PRODID:-//MyApp//Calendar 1.0//EN
BEGIN:VEVENT
METHOD:PUBLISH
UID:43636@regionalniportaly.cz
DTSTAMP:20260422T234543Z
DTSTART;VALUE=DATE:20240711
DTEND;VALUE=DATE:20240712
SUMMARY:Letní kino: Zápisník alkoholičky
DESCRIPTION:Nový celovečerní film&nbsp\;Zápisník alkoholičky&nbsp\;vypráví dramatický příběh mladé ženy bojující se závislostí na alkoholu. Hlavní hrdinkou (byť se jako hrdinka mnohdy nepůsobí) je mladá maminka\, která se rozhodla nevzdat\, nastoupit léčbu a bojovat se svým démonem i o svou rodinu. Jak těžké je si problém s&nbsp\;pitím přiznat? Proč není překážkou závislosti ani malé dítě? Kde vzít sílu se léčit a co následuje poté? Na tyto a mnohé další otázky odpovídá autentická a upřímná filmová zpověď abstinující alkoholičky.HRAJÍ: TEREZA RAMBA\, MIROSLAV HANUŠ\, BARBARA LUKEŠOVÁ\, MILOSLAV KÖNIG\, ALŽBĚTA MALÁ\, JAN JANČA\, SIMONETTA HLADKÁ\, BARBORA MUDROVÁ\, OSKAR HES\, MICHAL PAZDERKAPředprodej vstupenek v síti smsticket.cz a turistickém informačním centru Moravské Budějovice.
LOCATION:Moravské Budějovice
END:VEVENT
END:VCALENDAR