BEGIN:VCALENDAR
VERSION:2.0
CALSCALE:GREGORIAN
PRODID:-//MyApp//Calendar 1.0//EN
BEGIN:VEVENT
METHOD:PUBLISH
UID:43318@regionalniportaly.cz
DTSTAMP:20260422T235046Z
DTSTART;VALUE=DATE:20240804
DTEND;VALUE=DATE:20240805
SUMMARY:Pískomil se vrací
DESCRIPTION:Kapela Pískomil se vrací patří k jedné z mála profesionálních kapel\, která se věnuje výhradně moderní dětské tvorbě a tvoří mezigenerační zábavu\, při které se baví nejen děti\, ale i rodiče. Při jejich živelném koncertu si užijete vtipné a originální texty\, našlápnuté písničky\, barevné kostýmy a skvělou práci s dětským publikem.Od roku 2012 kapela odehrála přes 500 koncertů a získala si řadu fanoušků. Jejich písničky hraje denně Český rozhlas – Rádio Junior. S kvalitní tvorbou pro děti si kapela získala stabilní místo na české hudební scéně a vystoupuje například na velkých festivalových pódiích.Dětské dílničky\, malování na obličej a další atrakce pro děti.Předprodej vstupenek v síti smsticket.cz a turistickém informačním centru Moravské Budějovice.
LOCATION:Moravské Budějovice
END:VEVENT
END:VCALENDAR