BEGIN:VCALENDAR
VERSION:2.0
CALSCALE:GREGORIAN
PRODID:-//MyApp//Calendar 1.0//EN
BEGIN:VEVENT
METHOD:PUBLISH
UID:43317@regionalniportaly.cz
DTSTAMP:20260422T200935Z
DTSTART;VALUE=DATE:20240629
DTEND;VALUE=DATE:20240630
SUMMARY:Letní kino: Gump - jsme dvojka + !Setkání s Gumpem!
DESCRIPTION:Před promítáním nového českého filmu se můžete těšit na setkání s Filipem Rožkem a samotným GUMPEM\, kteří si pro vás připravili krátké povídání.Součástí akce bude materiální sbírka pro spolek KAPKA PRO TLAPKY\, který dorazí i s pejsky. Na akci můžete donést krmení pro pejsky\, pamlsky\, materiální věci a další\, čím pejskům uděláte radost. Spolek Kapka pro tlapky si hned materiální věci převezme a odveze.Nová Gumpova cesta začne přesně tam\, kde ta předchozí skončila. Se svým milovaným Béďou Kozím Bobkem projde hlavní zvířecí hrdina příběhem\, který už jim dávno předtím napsaly hvězdy. A zatímco Gumpův první příběh byl smutnější\, v jeho volném pokračování s&nbsp\;názvem&nbsp\;Gump – jsme dvojka&nbsp\;se diváci mohou těšit na spoustu vtipných zvířecích scén. Vedle hlavního hrdiny se nově objeví také psí slečna Jenny\, která si zahraje Gumpovu sestru Kytičku.Předprodej vstupenek v síti smsticket.cz a v turistickém informačním centru Moravské Budějovice.
LOCATION:Moravské Budějovice
END:VEVENT
END:VCALENDAR