BEGIN:VCALENDAR
VERSION:2.0
CALSCALE:GREGORIAN
PRODID:-//MyApp//Calendar 1.0//EN
BEGIN:VEVENT
METHOD:PUBLISH
UID:43285@regionalniportaly.cz
DTSTAMP:20260422T223034Z
DTSTART;VALUE=DATE:20240810
DTEND;VALUE=DATE:20240811
SUMMARY:Kulturní léto na Bítově 2024 - TRIO brněnské filharmonie
DESCRIPTION:Druhá srpnová sobota bude patřit koncertnímu vystoupení TRIA brněnské filharmonie.Zažijete skutečně dechberoucí zážitek snoubení tónů klasické hudby s atmosférou lesního koutu hotelové zahrady uprostřed čisté bítovské přírody.&nbsp\;
LOCATION:Bítov
END:VEVENT
END:VCALENDAR