BEGIN:VCALENDAR
VERSION:2.0
CALSCALE:GREGORIAN
PRODID:-//MyApp//Calendar 1.0//EN
BEGIN:VEVENT
METHOD:PUBLISH
UID:43284@regionalniportaly.cz
DTSTAMP:20260422T235221Z
DTSTART;VALUE=DATE:20240727
DTEND;VALUE=DATE:20240728
SUMMARY:KRIS JUGGLING - žonglérská show
DESCRIPTION:A máme tu další hvězdu na "Hvězdičce". Tentokrát na pódiu zazáří Kris Juggling\, úspěšný účastník televizní soutěže Československo má talent\, se svou žonglérskou a taneční show. Nenechte si ujít&nbsp\; tento jedinečný famózní zážitek pod širým nebem v zahradním areálu Hotelu Bítov.&nbsp\;
LOCATION:Bítov
END:VEVENT
END:VCALENDAR