BEGIN:VCALENDAR
VERSION:2.0
CALSCALE:GREGORIAN
PRODID:-//MyApp//Calendar 1.0//EN
BEGIN:VEVENT
METHOD:PUBLISH
UID:43266@regionalniportaly.cz
DTSTAMP:20260422T223326Z
DTSTART;VALUE=DATE:20240713
DTEND;VALUE=DATE:20240714
SUMMARY:Chutilo vám\, páni ?
DESCRIPTION:CHUTILO VÁM\, PÁNI / Pavol SerišAutor: Pavol SerišRežie: Arnošt Godflam\, Pavol SerišHraje: Pavol SerišChutilo vám\, páni? je pohybová komedie jednoho herce z podivného světa restaurací a číšníků. Herec během představení ztvární více než 20 různých postav. Používá jen minimum rekvizit\, spoléhá na aktivní představivost diváků. Autorská komedie\, která je směs pohybového divadla\, pantomimy\, absurdity a tance\, se zrodila ze spolupráce s hercem a režisérem Arnoštem Goldflamem na brněnské JAMU. Komedii Chutilo vám\, páni? Seriš přeložil do angličtiny a francouzštiny a uvedl ji mj. na festivalu festivalech v Polsku\, Rakousku\, Itálii\, Francii\, Kosovu\, Maroku\, Estonsku a Kuvajtu\, Turecku\, Íránu a Libanonu. Inscenace získala několik prestižních ocenění.
LOCATION:Bítov
END:VEVENT
END:VCALENDAR