BEGIN:VCALENDAR
VERSION:2.0
CALSCALE:GREGORIAN
PRODID:-//MyApp//Calendar 1.0//EN
BEGIN:VEVENT
METHOD:PUBLISH
UID:43153@regionalniportaly.cz
DTSTAMP:20260422T193505Z
DTSTART;VALUE=DATE:20241121
DTEND;VALUE=DATE:20241122
SUMMARY:Ivan Mládek a Banjo Band
DESCRIPTION:Náhradní termín za 18.8.2024Zakoupené vstupenky zůstávají v platnosti!Český multiinstrumentalista\, zpěvák\, bavič\, textař\, skladatel\, komik\, kreslíř\, humorista\, scenárista a autor deskových her\; vystudovaný inženýr ekonomie přijede rozesmát Moravské Budějovice.Je zakladatelem\, kapelníkem a frontmanem populární kapely Banjo Band. Ivan Mládek do dnešního dne napsal více než šest set písniček\, z nichž některé v českých zemích zlidověly (Dáša Nováková\, Jožin z bažin\, Prachovské skály\, Jez\, Linda a další)\, natočil 13 LP\, 35 CD\, vyšlo mu 13 humoristických knížek a 14 posterů jeho „antiperspektivních“ olejů. A se svým Banjo Bandem odehrál tisíce představení v České a Slovenské republice\, v Polsku\, Německu\, Švýcarsku\, Belgii\, Rakousku a USA.Předprodej vstupenek v síti smsticket.cz a v turistickém informačním centru Moravské Budějovice.Vstupné na místě 590&nbsp\;Kč.Areál otevřen 18:00.
LOCATION:Moravské Budějovice
END:VEVENT
END:VCALENDAR