BEGIN:VCALENDAR
VERSION:2.0
CALSCALE:GREGORIAN
PRODID:-//MyApp//Calendar 1.0//EN
BEGIN:VEVENT
METHOD:PUBLISH
UID:43151@regionalniportaly.cz
DTSTAMP:20260422T222952Z
DTSTART;VALUE=DATE:20240816
DTEND;VALUE=DATE:20240817
SUMMARY:Anna K.
DESCRIPTION:Oblíbená zpěvačka Anna K. po 6 letech vydala nové album Údolí včel\, které sklízí pozitivní ohlasy jak od fanoušků\, tak i hudebních kritiků. „Údolí včel je taková moje láskyplná výpověď. Je to velmi osobní album plné životní pravdy\, prožitků. Je o síle vztahu\, síle lásky. A já už se nemůžu dočkat\, až mé milované album živě představím svým fanouškům\,” těší se Anna K.Předprodej vstupenek v síti smsticket.cz a v turistickém informačním centru Moravské Budějovice.Vstupné na místě 690&nbsp\;Kč.Areál otevřel od 19:00
LOCATION:Moravské Budějovice
END:VEVENT
END:VCALENDAR