BEGIN:VCALENDAR
VERSION:2.0
CALSCALE:GREGORIAN
PRODID:-//MyApp//Calendar 1.0//EN
BEGIN:VEVENT
METHOD:PUBLISH
UID:43150@regionalniportaly.cz
DTSTAMP:20260422T223222Z
DTSTART;VALUE=DATE:20240815
DTEND;VALUE=DATE:20240816
SUMMARY:Marie Rottrová s kapelou
DESCRIPTION:První dáma českého soulu\, ostravská rodačka\, skvělá zpěvačka\, pianistka\, skladatelka....Marie Rottrová\, tentokrát galakoncert s Bigbandem Septet Plus Orchestra a hostem Petrem Němcem\, ve kterém zazní mimo osvědčené hity i písničky ze začátku jejich kariéry\, za které si Marie Rottrová vysloužila přezdívku „Lady Soul“. Marie Rottrová\, tato česká hudební ikona za doprovodu hudebního tělesa zazpívá samozřejmě i písně\, které ji vynesly na pomyslný Olymp. Můžete se tedy těšit na hudební klenoty jako např: Lásko voníš deštěm\, Ten vůz už jel\, Skořápky ořechů\, Markétka\, Zřejmě letos nikde nejsou kytky\, S tím bláznem si nic nezačínej\,...Předprodej vstupenek v síti smsticket.cz a v turistickém informačním centru Moravské Budějovice.Vstupné na místě 790&nbsp\;Kč.
LOCATION:Moravské Budějovice
END:VEVENT
END:VCALENDAR