BEGIN:VCALENDAR
VERSION:2.0
CALSCALE:GREGORIAN
PRODID:-//MyApp//Calendar 1.0//EN
BEGIN:VEVENT
METHOD:PUBLISH
UID:43147@regionalniportaly.cz
DTSTAMP:20260422T223043Z
DTSTART;VALUE=DATE:20240815
DTEND;VALUE=DATE:20240818
SUMMARY:V balíku: Marie Rottrová\, Anna K.\, Ivan Mládek a Banjo Band
DESCRIPTION:Koupí tohoto předplatného získáte vstupenku&nbsp\;na všechny tři koncerty za výhodnější cenu!15.8.2024 - Marie Rottrová s kapelou16.8.2024 - Anna K.18.8.2024 - Ivan Mládek a Banjo Band
LOCATION:Moravské Budějovice
END:VEVENT
END:VCALENDAR