BEGIN:VCALENDAR
VERSION:2.0
CALSCALE:GREGORIAN
PRODID:-//MyApp//Calendar 1.0//EN
BEGIN:VEVENT
METHOD:PUBLISH
UID:42976@regionalniportaly.cz
DTSTAMP:20260422T205347Z
DTSTART;VALUE=DATE:20250121
DTEND;VALUE=DATE:20250122
SUMMARY:Lukáš Pavlásek: Planeta slepic
DESCRIPTION:One-man-show Lukáše Pavláska Planeta slepic je stand-up speciál\, ve kterém se koukneme\, jaké vyhlídky má naše slavná civilizace\, kde si každý myslí\, že má pravdu\, stále jen nakupuje nepotřebné věci a kde vedle sebe žijí tak rozdílné bytosti\, jako jsou ženy\, muži a psi.Dozvíme se\, co strašného se stane\, když si doma zapomenete mobilní telefon. Užijeme si svých pět minut slávy v televizní soutěži\, naučíme se chovat v nákupním centru\, zavoláme si na horkou linku a zjistíme\, proč přírodu každou sobotu čeká nápor idiotů z města. A na závěr dojdeme k tomu\, že na téhle planetě nakonec přežijí jen slepice...Přijďte se zasmát tomu\, co znáte ze života. Přijďte se podívat na Planetu slepic.Předprodej vstupenek v síti smsticket.cz a turistickém informačním centru Moravské Budějovice.Vstupné na místě 360&nbsp\;Kč.
LOCATION:Moravské Budějovice
END:VEVENT
END:VCALENDAR