BEGIN:VCALENDAR
VERSION:2.0
CALSCALE:GREGORIAN
PRODID:-//MyApp//Calendar 1.0//EN
BEGIN:VEVENT
METHOD:PUBLISH
UID:42966@regionalniportaly.cz
DTSTAMP:20260422T234614Z
DTSTART;VALUE=DATE:20240720
DTEND;VALUE=DATE:20240721
SUMMARY:KAMÉLIE - Kulturní léto na Hotelu Bítov 2024
DESCRIPTION:"Hvězdy na Hvězdičce". Na pódiu pod širým nebem na vyhlídce Hvězdička vystoupí hvězdné duo českého popu z 80. let KAMÉLIE. Koncert se koná v zahradním areálu Hotelu Bítov\, takže&nbsp\; počítejte s možnými rozmary počasí. Přibalte si pro jistotu pláštěnku ( deštníky jsou z důvodu bezpečnosti zakázány ).Koncert odstartuje v 19:30 hodin.
LOCATION:Bítov
END:VEVENT
END:VCALENDAR