BEGIN:VCALENDAR
VERSION:2.0
CALSCALE:GREGORIAN
PRODID:-//MyApp//Calendar 1.0//EN
BEGIN:VEVENT
METHOD:PUBLISH
UID:42891@regionalniportaly.cz
DTSTAMP:20260422T200848Z
DTSTART;VALUE=DATE:20240613
DTEND;VALUE=DATE:20240614
SUMMARY:Prázdniny s broučkem
DESCRIPTION:Přijďte ve čtvrtek 13. 6. ve 20.00 na novou českou komedii s Barborou Polákovou a Lukášem Příkazkým v hlavních rolích\, která nás zaveze na jednu (ne)povedenou dovolenou. Rodina se rozhodne vyrazit k moři nově zděděným obytným vozem\, Broučkem. Cesta se zkomplikuje a dovolená neprobíhá tak\, jak se plánovalo.\nPodívejte se na oficiální trailer\, který naleznete na našich stránkách.\nObčerstvení zajištěno. Vstupné 140\,- Kč.
LOCATION:Moravské Budějovice
END:VEVENT
END:VCALENDAR