BEGIN:VCALENDAR
VERSION:2.0
CALSCALE:GREGORIAN
PRODID:-//MyApp//Calendar 1.0//EN
BEGIN:VEVENT
METHOD:PUBLISH
UID:41399@regionalniportaly.cz
DTSTAMP:20260422T200902Z
DTSTART;VALUE=DATE:20240525
DTEND;VALUE=DATE:20240526
SUMMARY:Namrous Fest Vůl. 6
DESCRIPTION:35 let tlačí Namrous&nbsp\;káru punku!Program akce:17:00 - otevření areálu18:00 - Plankton19:00 - Tady nikdo není20:00 - Namrous konspirace21:00 - Devotion22:00 - Aggresive Tyrants23:00 - Affected
LOCATION:Moravské Budějovice
END:VEVENT
END:VCALENDAR