BEGIN:VCALENDAR
VERSION:2.0
CALSCALE:GREGORIAN
PRODID:-//MyApp//Calendar 1.0//EN
BEGIN:VEVENT
METHOD:PUBLISH
UID:41398@regionalniportaly.cz
DTSTAMP:20260422T194534Z
DTSTART;VALUE=DATE:20241108
DTEND;VALUE=DATE:20241109
SUMMARY:Miloš Knor - Jiná doba
DESCRIPTION:Svět se stále mění a doba je pořád jiná. Každý dnem\, hodinou\, okamžikem. Nic není jak bylo a nic nebude jak je. Humorný pohled na civilizační pokrok vám Miloš Knor ve své 90 minutové show popíše na několika příkladech. Jaký byl život bez telefonu\, stará dobrá analogová hádka a zachrání nás ekofašismus? Potřebuje auto tlačítko se snižováním výkonu? Bylo líp? Je? Bude?Taková je zbrusu nová Stand-up comedy show Miloše Knora.&nbsp\;! Vhodné pro všechny věkové kategorie od 18 let. I když\, teď je všechno jinak !Předprodej vstupenek v síti smsticket.cz a turistickém informačním centru Moravské Budějovice.Vstupné na místě 490\,- Kč.
LOCATION:Moravské Budějovice
END:VEVENT
END:VCALENDAR