BEGIN:VCALENDAR
VERSION:2.0
CALSCALE:GREGORIAN
PRODID:-//MyApp//Calendar 1.0//EN
BEGIN:VEVENT
METHOD:PUBLISH
UID:41271@regionalniportaly.cz
DTSTAMP:20260422T200911Z
DTSTART;VALUE=DATE:20240511
DTEND;VALUE=DATE:20240512
SUMMARY:Marek Eben - Labyrint světa a ráj srdce
DESCRIPTION:V sobotu 11. května 2024 v BAROKNÍ PERLE VYSOČINY -&nbsp\;kostele sv. Markéty v&nbsp\;Jaroměřice nad Rokytnou\, zazní unikátní literárně-hudební duchovní kompozice\, prezentující Komenského dílo&nbsp\;Labyrint světa a ráj srdce\, pro varhany a recitátora.Této role se ujme známý herec a moderátor&nbsp\;MAREK EBEN\, jenž nás 13 zastaveními díla provede jako poutník\, který v labyrintu světa nenachází nic potěšujícího a obrací se k Bohu ve svém srdci\, aby tím sebe i okolní svět změnil k lepšímu. Náročného varhanního partu\, díla významného českého skladatele\, klavíristy a varhaníka&nbsp\;Petra Ebena\, se ujme&nbsp\;MICHAELA KÁČERKOVÁ&nbsp\;– výrazná osobnost mladé generace českých varhaníků.&nbsp\;Labyrint světa a ráj srdce&nbsp\;je dílo s nadčasovým poselstvím\, kterému ani po téměř čtyřech stech letech čas neubral nic z jeho aktuálnosti.&nbsp\;&nbsp\;
LOCATION:Jaroměřice nad Rokytnou
END:VEVENT
END:VCALENDAR