BEGIN:VCALENDAR
VERSION:2.0
CALSCALE:GREGORIAN
PRODID:-//MyApp//Calendar 1.0//EN
BEGIN:VEVENT
METHOD:PUBLISH
UID:40938@regionalniportaly.cz
DTSTAMP:20260422T212839Z
DTSTART;VALUE=DATE:20240428
DTEND;VALUE=DATE:20240429
SUMMARY:Filharmonie G. Mahlera: Slavné filmové melodie
DESCRIPTION:Koncert slavných filmových a populárních melodií v originálních autorských aranžích Jiřího Jakeše se vrací do Moravských Budějovic.Účinkují:Filharmonie G. Mahlera JihlavaJiří Jakeš - dirigentAndrea Gabrišová - zpěvTomáš Vaněk - zpěvVladimír Holeš - moderátorPředprodej vstupenek v síti smsticket.cz a turistickém informačním centru Moravské Budějovice.Vstupné na místě 550&nbsp\;KčKoncert se koná s podporou Kraje Vysočina
LOCATION:Moravské Budějovice
END:VEVENT
END:VCALENDAR