BEGIN:VCALENDAR
VERSION:2.0
CALSCALE:GREGORIAN
PRODID:-//MyApp//Calendar 1.0//EN
BEGIN:VEVENT
METHOD:PUBLISH
UID:40292@regionalniportaly.cz
DTSTAMP:20260422T194707Z
DTSTART;VALUE=DATE:20241103
DTEND;VALUE=DATE:20241104
SUMMARY:S kouzly kolem světa! Kouzelnická show Pavla Kožíška
DESCRIPTION:S kouzly kolem světa!Kouzelnická show Pavla Kožíška nejen pro dětiDětské představení iluzionisty Pavla Kožíška je velkou kouzelnickou cestou kolem světa. Poletíme na výlet letadlem a v každé zemi\, kde přistaneme\, na nás čekají typická a originální kouzla dané země.Děti budou s kouzelníkem čarovat přímo na jevišti a také se některá kouzla i naučí! Bezva zábava nejen pro děti.Předprodej vstupenek v síti smsticket.cz a turistickém informačním centru Moravské Budějovice.Vstupné na místě 250&nbsp\;Kč.
LOCATION:Moravské Budějovice
END:VEVENT
END:VCALENDAR