BEGIN:VCALENDAR
VERSION:2.0
CALSCALE:GREGORIAN
PRODID:-//MyApp//Calendar 1.0//EN
BEGIN:VEVENT
METHOD:PUBLISH
UID:40158@regionalniportaly.cz
DTSTAMP:20260422T200925Z
DTSTART;VALUE=DATE:20240426
DTEND;VALUE=DATE:20240427
SUMMARY:T. G. Copperfield and the Electric Band
DESCRIPTION:Písničkář\, zpěvák a kytarista T. G. Copperfield vždy pracuje na kouzlu další písně. Začínal jako hybná síla jižanských bluesrockerů 3 Dayz Whizkey a brzy našel svůj vlastní hlas v blues\, rocku a americaně. Vypravěč s pozoruhodným smyslem pro melodii a se skutečným rokenrolovým srdcem. Jeho úctyhodný katalog deseti alb od roku 2017 do roku 2023 mluví sám za sebe a dělá z tvrdě pracujícího T. G. jedinečnou\, ale autentickou postava na evropské bluesrockové scéně. S každým novým hudebním dobrodružstvím se vždy snaží posouvat své vlastní hranice o něco dál. Během permanentních evropských turné se svou elektrickou kapelou je píseň vždy v popředí jeho zájmu a zároveň ponechává dostatek prostoru pro skvělé muzikantství hudebníků\, kteří ho doprovázejí. Charismatický a živý interpret s více než dvacetiletou hudební zkušeností\, stovkami odehraných koncertů a hlubokým pochopením kořenů a základů rokenrolu a blues. Vynikající live show\, ve které kapela občas i zajamuje a především velmi dobře reaguje na publikum.🎸 26. 4. 2024🎸 v 19 hodin🎸 MKS - sál Budivoj\nv předprodeji 200\,-na místě 280\,-\nNa čepu plzeňská hladinka! 🍻Ukázka: https://www.youtube.com/watch?v=NwttgLOqDpU&amp\;t=8s
LOCATION:Moravské Budějovice
END:VEVENT
END:VCALENDAR