BEGIN:VCALENDAR
VERSION:2.0
CALSCALE:GREGORIAN
PRODID:-//MyApp//Calendar 1.0//EN
BEGIN:VEVENT
METHOD:PUBLISH
UID:40101@regionalniportaly.cz
DTSTAMP:20260422T212751Z
DTSTART;VALUE=DATE:20240426
DTEND;VALUE=DATE:20240427
SUMMARY:T.G. COPPERFIELD & The Electric Band (DE)
DESCRIPTION:Písničkář\, zpěvák a kytarista&nbsp\;T. G.&nbsp\;Copperfield&nbsp\;vždy pracuje na kouzlu další písně.&nbsp\;Začínal jako hybná síla jižanských bluesrockerů&nbsp\;3 Dayz Whizkey&nbsp\;a brzy našel svůj vlastní hlas v blues\, rocku a americaně.&nbsp\;Vypravěč s pozoruhodným smyslem pro melodii a se skutečným rokenrolovým srdcem.&nbsp\;Jeho úctyhodný katalog deseti alb od roku 2017 do roku 2023 mluví sám za sebe a dělá z tvrdě pracujícího T. G.&nbsp\;jedinečnou\, ale autentickou postava na evropské bluesrockové scéně.&nbsp\;S každým novým hudebním dobrodružstvím se vždy snaží posouvat své vlastní hranice o něco dál. Během permanentních evropských turné se svou elektrickou kapelou je píseň vždy v popředí jeho zájmu a zároveň ponechává dostatek prostoru pro skvělé muzikantství hudebníků\, kteří ho doprovázejí.&nbsp\;Charismatický a živý interpret s více než dvacetiletou hudební zkušeností\, stovkami odehraných koncertů a hlubokým pochopením kořenů a základů rokenrolu a blues. Vynikající live show\, ve které kapela zajamuje a především velmi dobře reaguje na publikum.Na čepu plzeňská hladinka!Předprodej vstupenek v síti smsticket.cz a turistickém informačním centru Moravské Budějovice.Vstupné na místě 280\,- Kč.
LOCATION:Moravské Budějovice
END:VEVENT
END:VCALENDAR