BEGIN:VCALENDAR
VERSION:2.0
CALSCALE:GREGORIAN
PRODID:-//MyApp//Calendar 1.0//EN
BEGIN:VEVENT
METHOD:PUBLISH
UID:40098@regionalniportaly.cz
DTSTAMP:20260422T193659Z
DTSTART;VALUE=DATE:20241114
DTEND;VALUE=DATE:20241115
SUMMARY:Lenka Filipová
DESCRIPTION:Lenka Filipová česká zpěvačka\, šansoniérka\, kytaristka\, hudební skladatelka a textařka. „Kytara u nás doma ležela opřená o stěnu\, a tak jsem jí prostě vzala do ruky\, bylo mi 9 let“. Přelomové bylo setkání s francouzským písničkářem Francisem Cabrelem a píseň Zamilovaná\, kterou Cabrel složil a česky ji otextoval Zdeněk Rytíř\, píseň dodnes platí za její největší hit. Nikdy také zcela neopustila svoji původní profesi klasické sólové kytaristky\, což nakonec vyústilo v několik LP desek věnovaných pouze klasické kytarové hudbě. Příznivý ohlas měly i její písničky věnované dětskému publiku. To vše ji vyneslo až do první desítky v popularitě českých zpěvaček v anketě Zlatý slavík. Dostalo se jí i celé řady mezinárodních uznání a ocenění. V současné době se také nově věnuje hře na elektrofonickou kytaru.Hosté: Sean Barry - akordeon\, keltská harfa\, Jára Bárta - klavír\, el. piano.Po skončení pořadu proběhne autogramiáda.Předprodej vstupenek v síti smsticket.cz a turistickém informačním centru Moravské Budějovice.
LOCATION:Moravské Budějovice
END:VEVENT
END:VCALENDAR