BEGIN:VCALENDAR
VERSION:2.0
CALSCALE:GREGORIAN
PRODID:-//MyApp//Calendar 1.0//EN
BEGIN:VEVENT
METHOD:PUBLISH
UID:40097@regionalniportaly.cz
DTSTAMP:20260422T193827Z
DTSTART;VALUE=DATE:20241025
DTEND;VALUE=DATE:20241026
SUMMARY:Delta Fuse (Irsko)
DESCRIPTION:Delta Fuse se vrací do Moravských Budějovic!Delta Fuse je mladá\, ale velmi nadějná irská bluesrocková kapela.&nbsp\;Jejich sound&nbsp\;je částečně namočen do soulu a šedesátkové psychedelie. Kapela má za sebou množství koncertů v&nbsp\;Irsku a rozsáhlá britská turné.Na čepu plzeňská hladinka!Předprodej vstupenek v síti smsticket.cz a turistickém informačním centru Moravské Budějovice.Vstupné na místě 280\,- Kč.
LOCATION:Moravské Budějovice
END:VEVENT
END:VCALENDAR