BEGIN:VCALENDAR
VERSION:2.0
CALSCALE:GREGORIAN
PRODID:-//MyApp//Calendar 1.0//EN
BEGIN:VEVENT
METHOD:PUBLISH
UID:40074@regionalniportaly.cz
DTSTAMP:20260422T201026Z
DTSTART;VALUE=DATE:20240416
DTEND;VALUE=DATE:20240417
SUMMARY:Hypnotizér
DESCRIPTION:Hypnotizér a mentalista Jakub Kroulík 💥\nDoporučujeme všem\, kteří chtějí zažít něco fascinujícího 💯\nV úterý 16. 4. 2024 v 19 hodinMKS Beseda - velký sál\nVstupné v předprodeji 490\,-na místě 550\,-
LOCATION:Moravské Budějovice
END:VEVENT
END:VCALENDAR