BEGIN:VCALENDAR
VERSION:2.0
CALSCALE:GREGORIAN
PRODID:-//MyApp//Calendar 1.0//EN
BEGIN:VEVENT
METHOD:PUBLISH
UID:39992@regionalniportaly.cz
DTSTAMP:20260422T201039Z
DTSTART;VALUE=DATE:20240608
DTEND;VALUE=DATE:20240609
SUMMARY:Country fest pod věží
DESCRIPTION:Další ročník COUNTRY FESTU POD VĚŽÍ bude opět plný dobré hudby. Přijďte si poslechnout skupiny\, které jsme pro vás vybrali\, zatančit si a potkat se s přáteli.Těšíme se na vás!Zahrají:Jan Nedvěd ml. a PříbuzníRoman HorkýKvětinkaTuláciDuhaPlechová blechaCountryDejPředprodej vstupenek v síti smsticket.cz a turistickém informačním centru Moravské Budějovice.Vstupné na místě:do 18:00&nbsp\;- 300&nbsp\;Kčod 18:00&nbsp\;- 400&nbsp\;KčPořadatel akce: Paprsek radostného žití\, z.s.
LOCATION:Moravské Budějovice
END:VEVENT
END:VCALENDAR