BEGIN:VCALENDAR
VERSION:2.0
CALSCALE:GREGORIAN
PRODID:-//MyApp//Calendar 1.0//EN
BEGIN:VEVENT
METHOD:PUBLISH
UID:39909@regionalniportaly.cz
DTSTAMP:20260422T213547Z
DTSTART;VALUE=DATE:20240416
DTEND;VALUE=DATE:20240417
SUMMARY:HYPNOTIZÉR
DESCRIPTION:HYPNOTIZÉRHypnotizér a mentalista Jakub KroulíkDoporučujeme všem\, kteří chtějí zažít něco fascinujícího.Hned od počátku večera ucítíte příjemnou atmosféru.Přednášející si Vás okamžitě získá svým příjemným projevem a zajímavýmiinformacemi z historie i současné praxe v sugesci a hypnóze.Následnými ukázkami hypnózy na několika dobrovolnících Vám bude názorněpředvedeno\, jak změněný stav vědomí vypadá a jakými způsoby ho lzenavodit. Osoby na jevišti na povel hypnotizéra usínají\, klepou se zimou\,zapomenou své jméno...Pocity\, které zúčastnění\, nejenom na jevišti\, ale i v hledišti\, sdílejí\,jsou fascinující. Kromě výjimečného zážitku si všichni odnášejípředevším uvolnění\, klid a vnitřní pohodu. Příjemnou energii pak mnozípociťují ještě několik dní poté.Délka pořadu: 90 min. bez přestávkyPředprodej vstupenek v síti smsticket.cz a turistickém informačním centru Moravské Budějovice.Vstupné na místě 550&nbsp\;Kč.
LOCATION:Moravské Budějovice
END:VEVENT
END:VCALENDAR