BEGIN:VCALENDAR
VERSION:2.0
CALSCALE:GREGORIAN
PRODID:-//MyApp//Calendar 1.0//EN
BEGIN:VEVENT
METHOD:PUBLISH
UID:37831@regionalniportaly.cz
DTSTAMP:20260422T223233Z
DTSTART;VALUE=DATE:20240927
DTEND;VALUE=DATE:20240928
SUMMARY:Travesti show Techtle Mechtle – \,\,All inclusive Bibione\,\,
DESCRIPTION:Nejúspěšnější česká travesti show TECHTLE MECHTLE&nbsp\;přiváží novou divadelní show&nbsp\;"ALL INCLUSIVE BIBIONE"Techtle Mechtle revue je v současné době nejúspěšnější česká show na poli divadelní scény. V podání&nbsp\;Techtle Mechtle&nbsp\;se totiž vždy jedná o propracované divadelní představení s výpravnou scénou\, více jak 80ti kostýmy a dějovou linkou. Všechna představení jsou jednou velkou komedií\, a to od začátku až do konce. Má to jen jeden háček - všechny role\, a to včetně těch dámských\, tu hrají pouze muži a ti jsou navíc k nerozeznání od skutečných žen. Pánové&nbsp\;Lukáš\, Martin\, Nikolas a Saša&nbsp\;společně s tanečníky&nbsp\;Štěpánem\, Jarkem\, Sayem a Danem&nbsp\;pro Vás tentokrát připravili další nadupanou show.Jak už samotný název&nbsp\;"All inclusive Bibione"&nbsp\;napovídá\, představení bude nabité letní atmosférou\, sluncem\, mořem a hlavně - pořádnou dávkou českého humoru. Co všechno se může stát\, když se typicky česká rodina na úsporném režimu vypraví na cestu do Bibione\, aby poprvé v živote viděla moře? Mají si vůbec manželé po 36-ti letech soužití na společné dovolené ještě co povědět? Podaří se jim oživit při západu slunce jiskru jejich skomírajícího vztahu a nebo zbytky jejich vzájemného pochopení zmizí na vždy na dně moře mezi chaluhy a chobotnice? Volné pokračování divácky velmi úspěšného představení&nbsp\;"Dokud nás smrt nerozdělí"&nbsp\;přichází v podobě&nbsp\;"All inclusive Bibione"Pořady těchto pánů jsou vyprodána v řadě měst i několik měsíců předem\, a to především proto\, že se diváci během představení ze srdce zasmějí. Představení jsou kombinací travesti show\, muzikálu\, cabaretu\, taneční show\, zábavného pořadu i klasické činohry\, což je žánrově sice řadí mezi nezařaditelné\, ale i přesto mezi jedny z nejnavštěvovanějších.&nbsp\;Více informací najdete na&nbsp\;www.techtlemechtlerevue.czPředprodej vstupenek v síti smsticket.cz a turistickém informačním centru Moravské Budějovice.Vstupné na místě 490&nbsp\;Kč.
LOCATION:Moravské Budějovice
END:VEVENT
END:VCALENDAR