BEGIN:VCALENDAR
VERSION:2.0
CALSCALE:GREGORIAN
PRODID:-//MyApp//Calendar 1.0//EN
BEGIN:VEVENT
METHOD:PUBLISH
UID:37433@regionalniportaly.cz
DTSTAMP:20260422T183303Z
DTSTART;VALUE=DATE:20240308
DTEND;VALUE=DATE:20240309
SUMMARY:Čtení ke kafi 2 - Zápisky z cest
DESCRIPTION:Každá země má svůj rytmus\, jako by tančila svůj osobitý tanec. Zpravidla nás to láká tam\, kde onen taneční rytmus odpovídá našemu vnitřnímu tempu. „Tak tohle je země mého srdce\,“ pomyslíme si\, když se ocitneme na místě\, s&nbsp\;nímž zrovna ladíme.Nebojte se\, tohle není cestopis ani průvodce po pamětihodnostech\, jen pár historek a postřehů ke kafi z&nbsp\;míst\, která nám zůstala v&nbsp\;srdci.Příhody a postřehy z&nbsp\;cest doplní trefné animace Dity Stuchlíkové.Předprodej vstupenek v síti smsticket.cz a turistickém informačním centru Moravské Budějovice.Vstupné na místě 250&nbsp\;Kč.
LOCATION:Moravské Budějovice
END:VEVENT
END:VCALENDAR