BEGIN:VCALENDAR
VERSION:2.0
CALSCALE:GREGORIAN
PRODID:-//MyApp//Calendar 1.0//EN
BEGIN:VEVENT
METHOD:PUBLISH
UID:36939@regionalniportaly.cz
DTSTAMP:20260422T200807Z
DTSTART;VALUE=DATE:20240410
DTEND;VALUE=DATE:20240411
SUMMARY:MINIPÁRTY s Karlem Šípem
DESCRIPTION:Zábavná talk show baviče\, moderátora a textaře Karla Šípa na motivy televizního pořadu Všechnopárty. Pořadem provází Jiří Bláha. Prostor dostanou také dotazy diváků.Délka pořadu: 120 min. bez přestávkyPředprodej vstupenek v síti smsticket.cz a turistickém informačním centru Moravské Budějovice.
LOCATION:Moravské Budějovice
END:VEVENT
END:VCALENDAR