BEGIN:VCALENDAR
VERSION:2.0
CALSCALE:GREGORIAN
PRODID:-//MyApp//Calendar 1.0//EN
BEGIN:VEVENT
METHOD:PUBLISH
UID:36719@regionalniportaly.cz
DTSTAMP:20260422T183558Z
DTSTART;VALUE=DATE:20240313
DTEND;VALUE=DATE:20240314
SUMMARY:Jak se dělá ZOO
DESCRIPTION:PETR FEJK\, JAK SE DĚLÁ ZOOAutorské čtení z knihy JAK SE DĚLÁ ZOO bývalého dlouholetého ředitele Zoo Praha Petra Fejka.Dvouhodinová talk show\, plná výjimečných zkušeností a příběhů se zajímavými zvířaty a lidmi\, doplněná o projekci unikátních fotografií a zakončená autogramiádou a prodejem knih s osobním věnováním. O těžkých začátcích\, o povodni a o tom\, jak se ze staré zoo stala jedna z 10 nejlepších na světě.Petr Fejk je bývalý ředitel pražské zoo (1997-2009) a jeden z nejznámějších manažerů v ČR. Dnes především přednáší a publikuje. V roce 2021 vydal knihu vzpomínek Jak se dělá zoo. Vedle toho se angažuje v divadle\, v televizi a ve veřejném životě. Např. od roku 2019 hraje spolu s Ivanou Chýlkovou a Janem Krausem v představení BOND/MÉDEA v divadle Studio DVA na Václavském náměstí. Účinkuje i v různých televizních projektech\, např. v seriálu EINSTEIN na Prima TV (2021).Předprodej vstupenek v síti smsticket.cz a turistickém informačním centru Moravské Budějovice.Vstupné na místě 160&nbsp\;Kč.
LOCATION:Moravské Budějovice
END:VEVENT
END:VCALENDAR