BEGIN:VCALENDAR
VERSION:2.0
CALSCALE:GREGORIAN
PRODID:-//MyApp//Calendar 1.0//EN
BEGIN:VEVENT
METHOD:PUBLISH
UID:36561@regionalniportaly.cz
DTSTAMP:20260422T183628Z
DTSTART;VALUE=DATE:20240321
DTEND;VALUE=DATE:20240322
SUMMARY:Zdeněk Izer – Vyndavací zas tam dací
DESCRIPTION:Známý bavič\, komik a imitátor ZDENĚK IZER&nbsp\;přijede do Moravských Budějovic&nbsp\;se svou novou zábavnou talk show&nbsp\;„VYNDACÍ A ZAS TAM DACÍ“!Pořad\, ve kterém se diváci budou moci setkat s jedinečným a nezaměnitelným humorem Zdeňka&nbsp\;Izera. Jako vždy přijdou na řadu oblíbené zábavné scénky\, parodie a mnoho skvělých vtipů. Vystoupení je opět obohacené videoprojekcemi\, nejrůznějšími zábavnými kostýmy\, převleky a světelnými efekty. Nenechte si ujít tuto jedinečnou „one man show“ našeho nejpopulárnějšího baviče.Předprodej vstupenek v síti smsticket.cz a turistickém informačním centru Moravské Budějovice.Vstupné na místě 360\,- Kč.
LOCATION:Moravské Budějovice
END:VEVENT
END:VCALENDAR